BEGIN:VCALENDAR
VERSION:2.0
PRODID:-//SBPCuritiba - ECPv6.15.20//NONSGML v1.0//EN
CALSCALE:GREGORIAN
METHOD:PUBLISH
X-WR-CALNAME:SBPCuritiba
X-ORIGINAL-URL:https://sbpcuritiba.org.br
X-WR-CALDESC:Eventos para SBPCuritiba
REFRESH-INTERVAL;VALUE=DURATION:PT1H
X-Robots-Tag:noindex
X-PUBLISHED-TTL:PT1H
BEGIN:VTIMEZONE
TZID:America/Sao_Paulo
BEGIN:STANDARD
TZOFFSETFROM:-0300
TZOFFSETTO:-0300
TZNAME:-03
DTSTART:20250101T000000
END:STANDARD
END:VTIMEZONE
BEGIN:VEVENT
DTSTART;TZID=America/Sao_Paulo:20260516T090000
DTEND;TZID=America/Sao_Paulo:20260516T120000
DTSTAMP:20260425T163922
CREATED:20260423T184717Z
LAST-MODIFIED:20260423T184717Z
UID:53564-1778922000-1778932800@sbpcuritiba.org.br
SUMMARY:Simpósio: “Função feminina e função masculina: Relações intrapsíquicas e intersubjetivas.” - Com:  Cleuza Perrini
DESCRIPTION:A Sociedade Brasileira de Psicanálise de Curitiba\, por meio de seu Departamento Científico\, tem o prazer de convidá-los para o Simpósio: “Função feminina e função masculina: Relações intrapsíquicas e intersubjetivas.” \nNeste dia\, teremos o privilégio de ouvir a psicanalista Cleuza Mara Lourenço Perrini\, que há mais de 10 anos se dedica ao estudo desse tema – um campo\, que ao mesmo tempo que nos intimida\, nos liberta. \nEssa trajetória de pesquisa resultou em diversos artigos reconhecidos e publicados em importantes revistas da área: IDE\, RBP (Revista Brasileira de Psicanálise\, Bergasse\, Alter e Revista da SBPA. \nEm 2025\, esse percurso culminou na publicação de seu primeiro livro\, de mesmo título do presente Simpósio. \nContaremos também com os comentários da psicanalista Solange Luiz Caldas dos Santos\, que vem se dedicando ao estudo desse tema\, com profundidade e sensibilidade\, enriquecendo ainda mais o diálogo proposto. \nÉ com entusiasmo que convidamos todos vocês para estarem conosco nesse dia\, em uma conversa relevante e necessária! \nEvento Híbrido: Auditório do MAB + Zoom\nInscrições antecipadas pelo e-mail: eventos@sbpcuritiba.org.br\nValores: \n\nR$ 120\,00 Profissionais e Membros Febrapsi\,\nR$ 90\,00 Estudantes e Membros Filiados.
URL:https://sbpcuritiba.org.br/evento/simposio-funcao-feminina-e-funcao-masculina-relacoes-intrapsiquicas-e-intersubjetivas-com-cleuza-perrini/
LOCATION:Evento híbrido
CATEGORIES:Geral
ATTACH;FMTTYPE=image/jpeg:https://sbpcuritiba.org.br/storage/2026/04/BANNER-SITE-SBPC.jpg
END:VEVENT
END:VCALENDAR