BEGIN:VCALENDAR
VERSION:2.0
PRODID:-//SBPCuritiba - ECPv6.15.20//NONSGML v1.0//EN
CALSCALE:GREGORIAN
METHOD:PUBLISH
X-ORIGINAL-URL:https://sbpcuritiba.org.br
X-WR-CALDESC:Eventos para SBPCuritiba
REFRESH-INTERVAL;VALUE=DURATION:PT1H
X-Robots-Tag:noindex
X-PUBLISHED-TTL:PT1H
BEGIN:VTIMEZONE
TZID:America/Sao_Paulo
BEGIN:STANDARD
TZOFFSETFROM:-0300
TZOFFSETTO:-0300
TZNAME:-03
DTSTART:20250101T000000
END:STANDARD
END:VTIMEZONE
BEGIN:VEVENT
DTSTART;TZID=America/Sao_Paulo:20260515T203000
DTEND;TZID=America/Sao_Paulo:20260515T230000
DTSTAMP:20260425T142050
CREATED:20260423T184259Z
LAST-MODIFIED:20260423T184259Z
UID:53560-1778877000-1778886000@sbpcuritiba.org.br
SUMMARY:Encontro de Psicanálise e Cultura Filme: Retrato de Uma Jovem em Chamas - Diretora: Céline Sciamma
DESCRIPTION:A Sociedade Brasileira de Psicanálise de Curitiba convida para o Encontro de Psicanálise e Cultura\, dia 15 de maio de 2026 às 20:30 horas\, com Flávia Smarczewski Basem discutindo o filme Retrato de Uma Jovem em Chamas (Portrait de la Jeune Fille en Feu\, dir. Céline Sciamma\, França\, 2019). \nO filme ganhou o Prêmio de Roteiro do Festival de Cannes em 2019\, foi indicado ao Globo de Ouro de melhor filme estrangeiro e indicado à Palma de Ouro em Cannes em 2019. \nRetrato de uma jovem em chamas é uma história de amor\, de amizade\, de descoberta e de observação\, que acontece a partir da contratação de Marianne para pintar um retrato de Héloïse. Essa pintura deverá ser um presente para o homem com quem deve se casar\, porém em vias de um casamento não consentido ela se recusa a posar. Um filme de uma beleza estética ímpar\, no qual observa-se que a partir da cumplicidade do olhar\, surge o encontro de um lugar amoroso em si e no outro. \nVenha participar conosco dessa discussão! Para nós será um grande prazer! \nEvento HÍBRIDO. Presencial de modo gratuito e transmitido via ZOOM. Investimento de R$40\,00 através do QRCode. \nInscrição antecipada pelo e-mail:\neventos@sbpcuritiba.org.br
URL:https://sbpcuritiba.org.br/evento/encontro-de-psicanalise-e-cultura-filme-retrato-de-uma-jovem-em-chamas-diretora-celine-sciamma/
LOCATION:MAB\, Rua da Paz\, 195 - Centro\, Curitiba\, PR\, Brasil
CATEGORIES:Geral
ATTACH;FMTTYPE=image/jpeg:https://sbpcuritiba.org.br/storage/2026/04/BANNER-SITE-SBPC-1.jpg
END:VEVENT
END:VCALENDAR